BEGIN:VCALENDAR
VERSION:2.0
PRODID:-//jEvents 2.0 for Joomla//EN
CALSCALE:GREGORIAN
METHOD:PUBLISH
BEGIN:VTIMEZONE
TZID:Europe/Zurich
END:VTIMEZONE
BEGIN:VEVENT
UID:7b20ae99abe14b2b9e86a1179a778a4b
CATEGORIES:Spielplan - Herren
SUMMARY:VBC FGZ – KTV Altstetten
LOCATION:Freies Gymnasium
DESCRIPTION;ENCODING=QUOTED-PRINTABLE:
DTSTAMP:20260422T033658Z
DTSTART;TZID=Europe/Zurich:20260310T200000
DTEND;TZID=Europe/Zurich:20260310T220000
SEQUENCE:0
TRANSP:OPAQUE
END:VEVENT
END:VCALENDAR