BEGIN:VCALENDAR
VERSION:2.0
PRODID:-//jEvents 2.0 for Joomla//EN
CALSCALE:GREGORIAN
METHOD:PUBLISH
BEGIN:VTIMEZONE
TZID:Europe/Zurich
END:VTIMEZONE
BEGIN:VEVENT
UID:ad20d0f96796741dc00f40674db53254
CATEGORIES:Spielplan - Herren
SUMMARY:Volley S9 – VBC FGZ
LOCATION:Sportzentrum Schachen
DESCRIPTION;ENCODING=QUOTED-PRINTABLE:
DTSTAMP:20260422T033723Z
DTSTART;TZID=Europe/Zurich:20260307T140000
DTEND;TZID=Europe/Zurich:20260307T220000
SEQUENCE:0
TRANSP:OPAQUE
END:VEVENT
END:VCALENDAR