BEGIN:VCALENDAR
VERSION:2.0
PRODID:-//jEvents 2.0 for Joomla//EN
CALSCALE:GREGORIAN
METHOD:PUBLISH
BEGIN:VTIMEZONE
TZID:Europe/Zurich
END:VTIMEZONE
BEGIN:VEVENT
UID:2a18543a133bf856a839eeeee1f46ea3
CATEGORIES:Spielplan - Herren
SUMMARY:VBC Einsiedeln – VBC FGZ
LOCATION:Turnhalle Trachslau
DESCRIPTION;ENCODING=QUOTED-PRINTABLE:
DTSTAMP:20260422T033659Z
DTSTART;TZID=Europe/Zurich:20260305T203000
DTEND;TZID=Europe/Zurich:20260305T220000
SEQUENCE:0
TRANSP:OPAQUE
END:VEVENT
END:VCALENDAR