BEGIN:VCALENDAR
VERSION:2.0
PRODID:-//jEvents 2.0 for Joomla//EN
CALSCALE:GREGORIAN
METHOD:PUBLISH
BEGIN:VTIMEZONE
TZID:Europe/Zurich
END:VTIMEZONE
BEGIN:VEVENT
UID:7e68b47ad292429b0596ff43a4d3ec8b
CATEGORIES:Spielplan - Herren
SUMMARY:VBC FGZ – VBC Furttal
LOCATION:Freies Gymnasium
DESCRIPTION;ENCODING=QUOTED-PRINTABLE:
DTSTAMP:20260422T062331Z
DTSTART;TZID=Europe/Zurich:20260226T200000
DTEND;TZID=Europe/Zurich:20260226T220000
SEQUENCE:0
TRANSP:OPAQUE
END:VEVENT
END:VCALENDAR