BEGIN:VCALENDAR
VERSION:2.0
PRODID:-//jEvents 2.0 for Joomla//EN
CALSCALE:GREGORIAN
METHOD:PUBLISH
BEGIN:VTIMEZONE
TZID:Europe/Zurich
END:VTIMEZONE
BEGIN:VEVENT
UID:b6abe65a8d943de4885b362024095e54
CATEGORIES:Spielplan - Herren
SUMMARY:KSC Wiedikon – VBC FGZ
LOCATION:Kantonsschule Wiedikon
DESCRIPTION;ENCODING=QUOTED-PRINTABLE:
X-EXTRAINFO:Halle C
DTSTAMP:20260422T131215Z
DTSTART;TZID=Europe/Zurich:20260120T200000
DTEND;TZID=Europe/Zurich:20260120T220000
SEQUENCE:0
TRANSP:OPAQUE
END:VEVENT
END:VCALENDAR