BEGIN:VCALENDAR
VERSION:2.0
PRODID:-//jEvents 2.0 for Joomla//EN
CALSCALE:GREGORIAN
METHOD:PUBLISH
BEGIN:VTIMEZONE
TZID:Europe/Zurich
END:VTIMEZONE
BEGIN:VEVENT
UID:6bce9b7a1095b1fb36251d1e29129e2b
CATEGORIES:Spielplan - Herren
SUMMARY:VBC FGZ – Volley Uster
LOCATION:Freies Gymnasium
DESCRIPTION;ENCODING=QUOTED-PRINTABLE:
DTSTAMP:20260422T115415Z
DTSTART;TZID=Europe/Zurich:20260106T200000
DTEND;TZID=Europe/Zurich:20260106T220000
SEQUENCE:0
TRANSP:OPAQUE
END:VEVENT
END:VCALENDAR