BEGIN:VCALENDAR
VERSION:2.0
PRODID:-//jEvents 2.0 for Joomla//EN
CALSCALE:GREGORIAN
METHOD:PUBLISH
BEGIN:VTIMEZONE
TZID:Europe/Zurich
END:VTIMEZONE
BEGIN:VEVENT
UID:0be200187636ad1be6952fc2397b1411
CATEGORIES:Spielplan - Damen
SUMMARY:Volera Glattfelden
LOCATION:Hof
DESCRIPTION;ENCODING=QUOTED-PRINTABLE:
DTSTAMP:20260422T213742Z
DTSTART;TZID=Europe/Zurich:20250314T201500
DTEND;TZID=Europe/Zurich:20250314T220000
SEQUENCE:0
TRANSP:OPAQUE
END:VEVENT
END:VCALENDAR