BEGIN:VCALENDAR
VERSION:2.0
PRODID:-//jEvents 2.0 for Joomla//EN
CALSCALE:GREGORIAN
METHOD:PUBLISH
BEGIN:VTIMEZONE
TZID:Europe/Zurich
END:VTIMEZONE
BEGIN:VEVENT
UID:6cdd1e557afabef68b653b9b96d69d2d
CATEGORIES:Spielplan - Damen
SUMMARY:KSC Wiedikon D2 – FGZ
LOCATION:Kantonsschule Wiedikon
DESCRIPTION;ENCODING=QUOTED-PRINTABLE:
X-EXTRAINFO:Halle C
DTSTAMP:20260422T223355Z
DTSTART;TZID=Europe/Zurich:20250310T200000
DTEND;TZID=Europe/Zurich:20250310T220000
SEQUENCE:0
TRANSP:OPAQUE
END:VEVENT
END:VCALENDAR