BEGIN:VCALENDAR
VERSION:2.0
PRODID:-//jEvents 2.0 for Joomla//EN
CALSCALE:GREGORIAN
METHOD:PUBLISH
BEGIN:VTIMEZONE
TZID:Europe/Zurich
END:VTIMEZONE
BEGIN:VEVENT
UID:653f13cfeb5ed759f78304d9820cc1f8
CATEGORIES:Spielplan - Damen
SUMMARY:VBC Wetzikon D1 – FGZ
LOCATION:Kantonsschule Zürcher Oberland (KZO)
DESCRIPTION;ENCODING=QUOTED-PRINTABLE:
X-EXTRAINFO:Feld 1
DTSTAMP:20260423T001746Z
DTSTART;TZID=Europe/Zurich:20250226T201500
DTEND;TZID=Europe/Zurich:20250226T220000
SEQUENCE:0
TRANSP:OPAQUE
END:VEVENT
END:VCALENDAR