BEGIN:VCALENDAR
VERSION:2.0
PRODID:-//jEvents 2.0 for Joomla//EN
CALSCALE:GREGORIAN
METHOD:PUBLISH
BEGIN:VTIMEZONE
TZID:Europe/Zurich
END:VTIMEZONE
BEGIN:VEVENT
UID:7128b18a9b602aa1c78e0d01af198191
CATEGORIES:Spielplan - Damen
SUMMARY:Rüschlikon 4 – FGZ
LOCATION:Gulliver
DESCRIPTION;ENCODING=QUOTED-PRINTABLE:
DTSTAMP:20260423T001746Z
DTSTART;TZID=Europe/Zurich:20250225T200000
DTEND;TZID=Europe/Zurich:20250225T220000
SEQUENCE:0
TRANSP:OPAQUE
END:VEVENT
END:VCALENDAR