BEGIN:VCALENDAR
VERSION:2.0
PRODID:-//jEvents 2.0 for Joomla//EN
CALSCALE:GREGORIAN
METHOD:PUBLISH
BEGIN:VTIMEZONE
TZID:Europe/Zurich
END:VTIMEZONE
BEGIN:VEVENT
UID:628aec1ec8b747cfb5b731a019b9ca98
CATEGORIES:Spielplan - Damen
SUMMARY:FGZ – VBC Züri Unterland D4
LOCATION:Freies Gymnasium
DESCRIPTION;ENCODING=QUOTED-PRINTABLE:
DTSTAMP:20260423T015336Z
DTSTART;TZID=Europe/Zurich:20250205T200000
DTEND;TZID=Europe/Zurich:20250205T220000
SEQUENCE:0
TRANSP:OPAQUE
END:VEVENT
END:VCALENDAR