BEGIN:VCALENDAR
VERSION:2.0
PRODID:-//jEvents 2.0 for Joomla//EN
CALSCALE:GREGORIAN
METHOD:PUBLISH
BEGIN:VTIMEZONE
TZID:Europe/Zurich
END:VTIMEZONE
BEGIN:VEVENT
UID:dddf050826c3f43d3f12c2d6264ff4fd
CATEGORIES:Spielplan - Damen
SUMMARY:Volley Uster D4 – FGZ
LOCATION:Krämeracker Uster
DESCRIPTION;ENCODING=QUOTED-PRINTABLE:
DTSTAMP:20260423T043702Z
DTSTART;TZID=Europe/Zurich:20250128T203000
DTEND;TZID=Europe/Zurich:20250128T220000
SEQUENCE:0
TRANSP:OPAQUE
END:VEVENT
END:VCALENDAR