BEGIN:VCALENDAR
VERSION:2.0
PRODID:-//jEvents 2.0 for Joomla//EN
CALSCALE:GREGORIAN
METHOD:PUBLISH
BEGIN:VTIMEZONE
TZID:Europe/Zurich
END:VTIMEZONE
BEGIN:VEVENT
UID:3009feaab1bd08b7b613181fc6d0ce55
CATEGORIES:Spielplan - Damen
SUMMARY:FGZ – VBC Rämi D2
LOCATION:Freies Gymnasium
DESCRIPTION;ENCODING=QUOTED-PRINTABLE:
DTSTAMP:20260423T060206Z
DTSTART;TZID=Europe/Zurich:20250113T200000
DTEND;TZID=Europe/Zurich:20250113T220000
SEQUENCE:0
TRANSP:OPAQUE
END:VEVENT
END:VCALENDAR