BEGIN:VCALENDAR
VERSION:2.0
PRODID:-//jEvents 2.0 for Joomla//EN
CALSCALE:GREGORIAN
METHOD:PUBLISH
BEGIN:VTIMEZONE
TZID:Europe/Zurich
END:VTIMEZONE
BEGIN:VEVENT
UID:cddf6785122a7bce76628e4bf6ac77e0
CATEGORIES:Spielplan - Herren
SUMMARY:VBC Zürich Unterland – FGZ
LOCATION:Doppelturnhalle Feld
DESCRIPTION;ENCODING=QUOTED-PRINTABLE:
DTSTAMP:20260422T213029Z
DTSTART;TZID=Europe/Zurich:20250314T204500
DTEND;TZID=Europe/Zurich:20250314T220000
SEQUENCE:0
TRANSP:OPAQUE
END:VEVENT
END:VCALENDAR