BEGIN:VCALENDAR
VERSION:2.0
PRODID:-//jEvents 2.0 for Joomla//EN
CALSCALE:GREGORIAN
METHOD:PUBLISH
BEGIN:VTIMEZONE
TZID:Europe/Zurich
END:VTIMEZONE
BEGIN:VEVENT
UID:b0615266a6cce997b78c0b8d207a2e25
CATEGORIES:Spielplan - Herren
SUMMARY:FGZ – Volley Uster H4
LOCATION:Freies Gymnasium
DESCRIPTION;ENCODING=QUOTED-PRINTABLE:
DTSTAMP:20260422T223452Z
DTSTART;TZID=Europe/Zurich:20250311T200000
DTEND;TZID=Europe/Zurich:20250311T220000
SEQUENCE:0
TRANSP:OPAQUE
END:VEVENT
END:VCALENDAR