BEGIN:VCALENDAR
VERSION:2.0
PRODID:-//jEvents 2.0 for Joomla//EN
CALSCALE:GREGORIAN
METHOD:PUBLISH
BEGIN:VTIMEZONE
TZID:Europe/Zurich
END:VTIMEZONE
BEGIN:VEVENT
UID:9e2bc802eb80cc399819c71b16d57d57
CATEGORIES:Spielplan - Herren
SUMMARY:VBC Voléro Zürich 5 – FGZ
LOCATION:Im Birch
DESCRIPTION;ENCODING=QUOTED-PRINTABLE:
DTSTAMP:20260422T213028Z
DTSTART;TZID=Europe/Zurich:20250301T143000
DTEND;TZID=Europe/Zurich:20250301T170000
SEQUENCE:0
TRANSP:OPAQUE
END:VEVENT
END:VCALENDAR