BEGIN:VCALENDAR
VERSION:2.0
PRODID:-//jEvents 2.0 for Joomla//EN
CALSCALE:GREGORIAN
METHOD:PUBLISH
BEGIN:VTIMEZONE
TZID:Europe/Zurich
END:VTIMEZONE
BEGIN:VEVENT
UID:5db63e380016cca466210f462bea87c4
CATEGORIES:Spielplan - Herren
SUMMARY:KSC Wiedikon Legends – FGZ
LOCATION:Kantonsschule Wiedikon
DESCRIPTION;ENCODING=QUOTED-PRINTABLE:
X-EXTRAINFO:Halle C
DTSTAMP:20260423T043641Z
DTSTART;TZID=Europe/Zurich:20250128T200000
DTEND;TZID=Europe/Zurich:20250128T220000
SEQUENCE:0
TRANSP:OPAQUE
END:VEVENT
END:VCALENDAR