BEGIN:VCALENDAR
VERSION:2.0
PRODID:-//jEvents 2.0 for Joomla//EN
CALSCALE:GREGORIAN
METHOD:PUBLISH
BEGIN:VTIMEZONE
TZID:Europe/Zurich
END:VTIMEZONE
BEGIN:VEVENT
UID:a9929c851cc8a3dead8a1d50ff72d58e
CATEGORIES:Spielplan - Herren
SUMMARY:FGZ – VBC Furttal
LOCATION:Freies Gymnasium
DESCRIPTION;ENCODING=QUOTED-PRINTABLE:
DTSTAMP:20260423T060820Z
DTSTART;TZID=Europe/Zurich:20250123T200000
DTEND;TZID=Europe/Zurich:20250123T220000
SEQUENCE:0
TRANSP:OPAQUE
END:VEVENT
END:VCALENDAR