BEGIN:VCALENDAR
VERSION:2.0
PRODID:-//jEvents 2.0 for Joomla//EN
CALSCALE:GREGORIAN
METHOD:PUBLISH
BEGIN:VTIMEZONE
TZID:Europe/Zurich
END:VTIMEZONE
BEGIN:VEVENT
UID:5ef6ed3672008a00cf323e0880cbd232
CATEGORIES:Spielplan - Herren
SUMMARY:FGZ – KSC Wiedikon Legends
LOCATION:Freies Gymnasium
DESCRIPTION;ENCODING=QUOTED-PRINTABLE:
DTSTAMP:20260423T110318Z
DTSTART;TZID=Europe/Zurich:20241205T200000
DTEND;TZID=Europe/Zurich:20241205T220000
SEQUENCE:0
TRANSP:OPAQUE
END:VEVENT
END:VCALENDAR